Workbook

Sheet Chart of Accounts    
D1: Chart of Accounts
D2: Assets
D3: 101 | E3: Cash
D4: 111 | E4: Accounts Receivable
D5: 121 | E5: Supplies
D6: 134 | E6: Prepaid Insurance
D7: 137 | E7: Land
D8: 141 | E8: Buildings
D9: 142 | E9: Accumulated Depreciation-Buildings
D11: Liabilities
D12: 202 | E12: Accounts Payable
D13: 208 | E13: Salaries Payable
D14: 210 | E14: Unearned Revenue
D15: 215 | E15: Income Tax Payable
D16: 222 | E16: Mortgage Payable
D18: Owners’ Equity
D19: 301 | E19: Common Shares
D20: 309 | E20: Retained Earnings
D21: 311 | E21: Dividends Declared
D23: Revenue
D24: 410 | E24: Veterinary Service Revenue
D26: Expenses
D27: 511 | E27: salaries Expenses
D28: 517 | E28: supplies Expenses
D29: 523 | E29: Depreciation Expense
D30: 525 | E30: interest Expense
D31: 526 | E31: insurance Expense
D32: 531 | E32: utilities Expense
D33: 536 | E33: Repairs Expense
D34: 540 | E34: Income tax expense
D36: 601 | E36: income summary

Sheet posting in Ledger
A1: ='Chart of Accounts '!D19 -> 301 | B1: Common shares | E1: ='Chart of Accounts '!D27 -> 511 | F1: Salaries Expense
B2: 817967 | E2: =7300 -> 7300
E3: =B10 -> 7300
E4: =3650 -> 3650
A7: ='Chart of Accounts '!D3 -> 101 | B7: Cash | E7: 410 | F7: Veterinary Service Revenue
A8: =B2 -> 817967 | B8: 100000 | F8: 48000
A9: =92000 -> 92000 | B9: =E2 -> 7300 | F9: =A40 -> 11500
A10: =22000 -> 22000 | B10: =7300 -> 7300 | F10: =15000 -> 15000
B11: =3075 -> 3075
B12: 1115
B13: =E35 -> 1040
B14: 3800
B15: 69300
A17: ='Chart of Accounts '!D7 -> 137 | B17: land | E17: 111 | F17: Accounts Receivable
A18: 275000 | E18: =F8 -> 48000 | F18: =A10 -> 22000
E19: 8550
E20: =15000 -> 15000
A23: ='Chart of Accounts '!D8 -> 141 | B23: Building | E23: 536 | F23: Repairs Expense
A24: 433000 | F24: =E19 -> 8550
A29: ='Chart of Accounts '!D16 -> 222 | B29: Mortgage | E29: 531 | F29: utilities Expense
A30: =2600 -> 2600 | B30: =A18+A24-B8 -> 608000 | E30: 1115
A34: ='Chart of Accounts '!D6 -> 134 | B34: Prepaid insurance | E34: 311 | F34: Dividends Declared
A35: 69300 | B35: =A35/36 -> 1925 | E35: =1040 -> 1040
A39: 210 | B39: Unearned Revenue | E39: ='Chart of Accounts '!D30 -> 525 | F39: interest Expense
A40: =1/8*B40 -> 11500 | B40: 92000 | E40: =1200 -> 1200
A45: 202 | B45: Accounts payable | E45: 526 | F45: insurance Expense
B46: 3075 | E46: =B35 -> 1925
B47: 8550
A51: 121 | B51: Supplies | E51: 523 | F51: Depreciation Expense
A52: =B46 -> 3075 | B52: 775 | F52: =(A24-67000)/(25*12) -> 1220
A56: 123 | B56: Accumulated Depreciation-Buildings | E56: 208 | F56: Salaries Payable
A57: =F52 -> 1220 | F57: =3650 -> 3650
A59: 215 | B59: Income Tax Payable | E59: 540 | F59: income tax expense
B60: =E60 -> 975 | E60: =975 -> 975
A62: =531 -> 531 | B62: utilities Expense | E62: 517 | F62: ='Chart of Accounts '!E28 -> supplies Expenses
A63: 775 | E63: 2300
A65: 601 | B65: income summary
B66: Expenses | C66: Revenues
A67: Veterinary Service Revenue | C67: 74500
A68: salaries Expenses | B68: 36500
...

Sheet T-account
B1: ='Chart of Accounts '!D19 -> 301 | C1: Common shares | G1: ='Chart of Accounts '!D27 -> 511 | H1: Salaries Expense
C2: 817967 | G2: =7300 -> 7300
A3: Bal bd | C3: =C2 -> 817967 | G3: =C12 -> 7300
G4: =3650 -> 3650
G5: =SUM(G2:G4) -> 18250
G6: =G2+G3+G4+G5 -> 36500
F7: Bal bd | G7: =G6 -> 36500
B9: ='Chart of Accounts '!D3 -> 101 | C9: Cash | G9: 410 | H9: Veterinary Service Revenue
B10: =C2 -> 817967 | C10: 100000 | H10: 48000
B11: =92000 -> 92000 | C11: =G2 -> 7300 | H11: =B48 -> 11500
B12: =22000 -> 22000 | C12: =7300 -> 7300 | H12: =15000 -> 15000
C13: =3075 -> 3075 | H13: =SUM(H10:H12) -> 74500
C14: 1115 | F14: Bal bd | H14: =H13 -> 74500
C15: =G43 -> 1040
C16: 69300
C17: 3800
C18: 3075
B20: =SUM(B10:B17) -> 931967 | C20: =SUM(C10:C19) -> 196005
A21: Bal bd | B21: =B20-C20 -> 735962
B24: ='Chart of Accounts '!D7 -> 137 | C24: land | G24: 111 | H24: Accounts Receivable
B25: 275000 | G25: =H10 -> 48000 | H25: =B12 -> 22000
G26: 8550
G27: =15000 -> 15000 | H27: =G28-H25 -> 49550
A28: Bal bd | B28: =B25 -> 275000 | G28: =SUM(G25:G27) -> 71550
F29: Bal bd | G29: =H27 -> 49550
B31: ='Chart of Accounts '!D8 -> 141 | C31: Building | G31: 536 | H31: Repairs Expense
B32: 433000 | G32: 8550
A34: =A28 -> Bal bd | B34: =B32 -> 433000 | F34: Bal bd | G34: =G32 -> 8550
B37: ='Chart of Accounts '!D16 -> 222 | C37: Mortgage | G37: 531 | H37: utilities Expense
B38: =2600 -> 2600 | C38: =B25+B32-C10 -> 608000 | G38: 1115
B39: =C38-B38 -> 605400 | C39: =SUM(C38) -> 608000
A40: Bal bd | C40: =B39 -> 605400 | F40: bal bd | G40: =G38 -> 1115
B42: ='Chart of Accounts '!D6 -> 134 | C42: Prepaid insurance | G42: 311 | H42: Dividends Declared
B43: 69300 | C43: =B43/36 -> 1925 | G43: =1040 -> 1040
B44: =SUM(B43) -> 69300 | C44: =B44-C43 -> 67375
A45: bal bd | B45: =C44 -> 67375 | F45: bal bd | G45: =G43 -> 1040
B47: 210 | C47: Unearned Revenue | G47: ='Chart of Accounts '!D30 -> 525 | H47: interest Expense
B48: =1/8*C48 -> 11500 | C48: 92000 | G48: =1200 -> 1200
B49: =C49-B48 -> 80500 | C49: =SUM(C48) -> 92000
A50: =A45 -> bal bd | C50: =B49 -> 80500 | F50: =F45 -> bal bd | G50: =G48 -> 1200
...

Sheet Adjusted trial balance 
B2: TRIAL BALANCE | C2: Debit | D2: Credit
A3: 101 | B3: Cash | C3: ='T-account'!B21 -> 735962
A4: 111 | B4: Accounts Receivable | C4: ='T-account'!G29 -> 49550
A5: 121 | B5: Supplies | C5: 2300
A6: 134 | B6: Prepaid Insurance | C6: ='T-account'!B45 -> 67375
A7: 137 | B7: Land | C7: ='T-account'!B28 -> 275000
A8: 141 | B8: Buildings | C8: ='T-account'!B34 -> 433000
A9: 142 | B9: Accumulated Depreciation-Buildings | D9: ='T-account'!B67 -> 1220
A10: 202 | B10: Accounts Payable | D10: ='T-account'!C56 -> 11625
A11: 208 | B11: Salaries Payable | D11: ='T-account'!H67 -> 3650
A12: 210 | B12: Unearned Revenue | D12: ='T-account'!C50 -> 80500
A13: 215 | B13: Income Tax Payable | D13: ='T-account'!C71 -> 975
A14: 222 | B14: Mortgage Payable | D14: ='T-account'!C40 -> 605400
A15: 301 | B15: Common Shares | D15: ='T-account'!C3 -> 817967
A16: 309 | B16: Retained Earnings
A17: 311 | B17: Dividends Declared | C17: ='T-account'!G45 -> 1040
A18: 410 | B18: Veterinary Service Revenue | D18: ='T-account'!H14 -> 74500
A19: 511 | B19: salaries Expenses | C19: ='T-account'!G7 -> 36500
A20: 517 | B20: supplies Expenses | C20: 775
A21: 523 | B21: Depreciation Expense | C21: ='T-account'!H62 -> 1220
A22: 525 | B22: interest Expense | C22: ='T-account'!G50 -> 1200
A23: 526 | B23: insurance Expense | C23: ='T-account'!G56 -> 1925
A24: 531 | B24: utilities Expense | C24: 10070
A25: 536 | B25: Repairs Expense | C25: ='T-account'!G34 -> 8550
A26: 540 | B26: Income tax expense | C26: ='T-account'!G71 -> 975
A27: 601 | B27: income summary | D27: ='T-account'!D90 -> 29605
C29: =SUM(C3:C27) -> 1625442 | D29: =SUM(D9:D27) -> 1625442

Sheet income statement
A1: Income statement
A2: for the period ending 31 May
A3: Item | B3: Amount
A4: Revenue | B4: ='Adjusted trial balance '!D18 -> 74500
A6: Expenses
A7: salaries Expenses | B7: ='Adjusted trial balance '!C19 -> 36500
A8: supplies Expenses | B8: ='Adjusted trial balance '!C20 -> 775
A9: Depreciation Expense | B9: ='Adjusted trial balance '!C21 -> 1220
A10: interest Expense | B10: ='Adjusted trial balance '!C22 -> 1200
A11: insurance Expense | B11: ='Adjusted trial balance '!C23 -> 1925
A12: utilities Expense | B12: ='Adjusted trial balance '!C24 -> 10070
A13: Repairs Expense | B13: ='Adjusted trial balance '!C25 -> 8550
A14: Income tax expense | B14: ='Adjusted trial balance '!C26 -> 975
A15: Dividends expense | B15: 1040
A16: Total expenses | B16: =SUM(B7:B15) -> 62255
A18: Net Income | B18: =B4-B16 -> 12245

Sheet Statement of Changes in Equity
B1: Statement of Change in Equity
B2: for the period ending may 31st
C3: Preferred stock | D3: common stock | E3: Additional capital | F3: Retained earnings | G3: Total
B4: Beginning balance | D4: ='posting in Ledger'!B2 -> 817967 | F4: 0 | G4: =SUM(D4:F4) -> 817967
B5: Issuance of stock | G5: =SUM(C5:F5) -> 0
B6: Net Income (net profit loss) | G6: ='income statement'!B18 -> 12245
B7: Dividends | G7: -1040
B8: other | G8: =SUM(C8:F8) -> 0
B9: other | G9: =SUM(C9:F9) -> 0
B10: other | G10: =SUM(C10:F10) -> 0
B11: Ending balance | D11: =SUM(D4:D10) -> 817967 | F11: =SUM(F4:F10) -> 0 | G11: =SUM(G4:G10) -> 829172

Sheet Statement of Financial Position
B1: statement of financial position
B2: as at 31st may
B3: Asset
A4: 101 | B4: Cash | C4: ='Adjusted trial balance '!C3 -> 735962
A5: 111 | B5: Accounts Receivable | C5: ='Adjusted trial balance '!C4 -> 49550
A6: 121 | B6: Supplies | C6: ='Adjusted trial balance '!C5 -> 2300
A7: 134 | B7: Prepaid Insurance | C7: ='Adjusted trial balance '!C6 -> 67375
A8: 137 | B8: Land | C8: ='Adjusted trial balance '!C7 -> 275000
A9: 141 | B9: Buildings | C9: ='Adjusted trial balance '!C8 -> 433000
A10: 142 | B10: Accumulated Depreciation-Buildings | C10: ='Adjusted trial balance '!D9 -> 1220
B11: Total Assets | C11: =SUM(C4:C9) -> 1563187
B13: Liabilities
A14: 202 | B14: Accounts Payable | C14: ='Adjusted trial balance '!D10 -> 11625
A15: 208 | B15: Salaries Payable | C15: ='Adjusted trial balance '!D11 -> 3650
A16: 210 | B16: Unearned Revenue | C16: ='Adjusted trial balance '!D12 -> 80500
A17: 215 | B17: Income Tax Payable | C17: ='Adjusted trial balance '!D13 -> 975
A18: 222 | B18: Mortgage Payable | C18: ='Adjusted trial balance '!D14 -> 605400
B19: Total Liabilities | C19: =SUM(C14:C18) -> 702150
B21: Owners Equity
A22: 301 | B22: Common Shares | C22: ='Adjusted trial balance '!D15 -> 817967
A23: 309 | B23: Retained Earnings | C23: =30825 -> 30825
A24: 601 | B24: Income summary | C24: ='income statement'!B18 -> 12245
B25: Owners Equity (changes) | C25: =SUM(C22:C24) -> 861037
B27: Total Liabilities and Owners Equity | C27: =C25+C19 -> 1563187

Sheet closing journal entries
A1: 101 | B1: Cash | E1: 202 | F1: Accounts Payable | H1: 601 | I1: Income summary | K1: utilities Expense
A2: 735962 | F2: 11625 | I2: 12245 | K2: 10070
A4: 111 | B4: Accounts Receivable | E4: 208 | F4: Salaries Payable | H4: Revenue
A5: 49550 | F5: 3650 | I5: 74500 | K5: Repairs Expense
K6: 8550
A8: 121 | B8: Supplies | E8: 210 | F8: Unearned Revenue | H8: salaries Expenses | K8: Income tax expense
A9: 2300 | F9: 80500 | H9: 36500 | K9: 975
A11: 134 | B11: Prepaid Insurance | E11: 215 | F11: Income Tax Payable | H11: supplies Expenses | K11: Dividends expense
A12: 67375 | F12: 975 | H12: 775 | K12: 1040
A14: 137 | B14: Land | E14: 301 | F14: Common Shares | H14: Depreciation Expense
A15: 275000 | F15: 817967 | H15: 1220
A17: 141 | B17: Buildings | E17: 311 | F17: Dividends declared | H17: interest Expense
A18: 433000 | F18: 1040 | H18: 1200
A19: -1220
A20: 431780
H21: insurance Expense
A22: 222 | B22: Mortgage Payable | E22: 309 | F22: Retained Earnings | H22: 1925
B23: 605400 | E23: 0 | F23: 30825

Sheet closing entries to T account
B1: 101 | C1: Cash | F1: 202 | G1: Accounts Payable | K1: 601 | L1: Income summary | O1: utilities Expense
B2: 735962 | G2: 11625 | L2: 12065 | O2: 10070
A3: Bal bd | B3: =B2 -> 735962 | E3: Bal bd | G3: =G2 -> 11625 | J3: Bal bd | L3: =L2 -> 12065 | N3: Bal bd | O3: =O2 -> 10070
B5: 111 | C5: Accounts Receivable | F5: 208 | G5: Salaries Payable | K5: Revenue
B6: 49550 | G6: 3650 | L6: 74500 | O6: Repairs Expense
A7: Bal bd | B7: =B6 -> 49550 | E7: Bal bd | G7: =G6 -> 3650 | J7: Bal bd | L7: =L6 -> 74500 | O7: 8550
N8: Bal bd | O8: =O7 -> 8550
B10: 121 | C10: Supplies | F10: 210 | G10: Unearned Revenue | K10: salaries Expenses | O10: Income tax expense
B11: 2300 | G11: 80500 | K11: 36500 | O11: 975
A12: Bal bd | B12: =B11 -> 2300 | E12: Bal bd | G12: =G11 -> 80500 | J12: Bal bd | K12: =K11 -> 36500 | N12: Bal bd | O12: =O11 -> 975
B14: 134 | C14: Prepaid Insurance | F14: 215 | G14: Income Tax Payable | K14: supplies Expenses | O14: Dividends expense
B15: 67375 | G15: 975 | K15: 775 | O15: 1040
A16: Bal bd | B16: =B15 -> 67375 | E16: Bal bd | G16: =G15 -> 975 | J16: Bal bd | K16: =K15 -> 775 | N16: Bal bd | O16: =O15 -> 1040
B18: 137 | C18: Land | F18: 301 | G18: Common Shares | K18: Depreciation Expense
B19: 275000 | G19: 817967 | K19: 1220
A20: Bal bd | B20: =B19 -> 275000 | E20: Bal bd | G20: =G19 -> 817967 | J20: Bal bd | K20: =K19 -> 1220
B22: 141 | C22: Buildings | F22: 311 | G22: Dividends declared | K22: interest Expense
B23: 433000 | F23: 1040 | K23: 1200
B24: -1220 | E24: Bal bd | F24: =F23 -> 1040 | J24: Bal bd | K24: =K23 -> 1200
B25: 431780
A26: Bal bd | B26: =B25 -> 431780
K27: insurance Expense
B28: 222 | C28: Mortgage Payable | F28: 309 | G28: Retained Earnings | K28: 1925
C29: 605400 | F29: 0 | G29: 17540 | J29: Bal bd | K29: =K28 -> 1925
A30: Bal bd | C30: =C29 -> 605400 | E30: Bal bd | G30: =G29 -> 17540

Sheet post-closing Trial Balance
A1: Post closing trial balance
B2: DEBIT | C2: CREDIT
A3: ='closing entries to T account'!C1 -> Cash | B3: ='closing entries to T account'!B3 -> 735962 | C3: 0
A4: ='closing entries to T account'!C5 -> Accounts Receivable | B4: ='closing entries to T account'!B7 -> 49550
A5: ='closing entries to T account'!C10 -> Supplies | B5: ='closing entries to T account'!B12 -> 2300
A6: ='closing entries to T account'!C14 -> Prepaid Insurance | B6: ='closing entries to T account'!B16 -> 67375
A7: ='closing entries to T account'!C18 -> Land | B7: ='closing entries to T account'!B20 -> 275000
A8: ='closing entries to T account'!C22 -> Buildings | B8: ='closing entries to T account'!B26 -> 431780
A9: ='closing entries to T account'!C28 -> Mortgage Payable | C9: ='closing entries to T account'!C30 -> 605400
A10: ='closing entries to T account'!G1 -> Accounts Payable | C10: ='closing entries to T account'!G3 -> 11625
A11: ='closing entries to T account'!G5 -> Salaries Payable | C11: ='closing entries to T account'!G7 -> 3650
A12: ='closing entries to T account'!G10 -> Unearned Revenue | C12: ='closing entries to T account'!G12 -> 80500
A13: ='closing entries to T account'!G14 -> Income Tax Payable | C13: ='closing entries to T account'!G16 -> 975
A14: ='closing entries to T account'!G18 -> Common Shares | C14: ='closing entries to T account'!G20 -> 817967
A15: retained earnings | C15: 17540
A16: ='closing entries to T account'!L1 -> Income summary | C16: ='closing entries to T account'!L3 -> 12065
A17: ='closing entries to T account'!K5 -> Revenue | C17: ='closing entries to T account'!L7 -> 74500
A18: ='closing entries to T account'!K10 -> salaries Expenses | B18: ='closing entries to T account'!K12 -> 36500
A19: ='closing entries to T account'!K14 -> supplies Expenses | B19: ='closing entries to T account'!K16 -> 775
A20: ='closing entries to T account'!K18 -> Depreciation Expense | B20: ='closing entries to T account'!K20 -> 1220
A21: ='closing entries to T account'!K22 -> interest Expense | B21: ='closing entries to T account'!K24 -> 1200
A22: ='closing entries to T account'!K27 -> insurance Expense | B22: ='closing entries to T account'!K29 -> 1925
A23: ='closing entries to T account'!O1 -> utilities Expense | B23: ='closing entries to T account'!O3 -> 10070
A24: ='closing entries to T account'!O6 -> Repairs Expense | B24: ='closing entries to T account'!O8 -> 8550
A25: ='closing entries to T account'!O10 -> Income tax expense | B25: ='closing entries to T account'!O12 -> 975
A26: ='closing entries to T account'!O14 -> Dividends expense | B26: ='closing entries to T account'!O16 -> 1040
B29: =SUM(B3:B28) -> 1624222 | C29: =SUM(C3:C28) -> 1624222
